BEGIN:VCALENDAR
VERSION:2.0
PRODID:-//South Edmonton Arts &amp; Theatre Society - ECPv6.15.20//NONSGML v1.0//EN
CALSCALE:GREGORIAN
METHOD:PUBLISH
X-WR-CALNAME:South Edmonton Arts &amp; Theatre Society
X-ORIGINAL-URL:https://maclabsouth.com
X-WR-CALDESC:Events for South Edmonton Arts &amp; Theatre Society
REFRESH-INTERVAL;VALUE=DURATION:PT1H
X-Robots-Tag:noindex
X-PUBLISHED-TTL:PT1H
BEGIN:VTIMEZONE
TZID:America/Edmonton
BEGIN:DAYLIGHT
TZOFFSETFROM:-0700
TZOFFSETTO:-0600
TZNAME:MDT
DTSTART:20250309T090000
END:DAYLIGHT
BEGIN:STANDARD
TZOFFSETFROM:-0600
TZOFFSETTO:-0700
TZNAME:MST
DTSTART:20251102T080000
END:STANDARD
BEGIN:DAYLIGHT
TZOFFSETFROM:-0700
TZOFFSETTO:-0600
TZNAME:MDT
DTSTART:20260308T090000
END:DAYLIGHT
BEGIN:STANDARD
TZOFFSETFROM:-0600
TZOFFSETTO:-0700
TZNAME:MST
DTSTART:20261101T080000
END:STANDARD
BEGIN:DAYLIGHT
TZOFFSETFROM:-0700
TZOFFSETTO:-0600
TZNAME:MDT
DTSTART:20270314T090000
END:DAYLIGHT
BEGIN:STANDARD
TZOFFSETFROM:-0600
TZOFFSETTO:-0700
TZNAME:MST
DTSTART:20271107T080000
END:STANDARD
END:VTIMEZONE
BEGIN:VEVENT
DTSTART;TZID=America/Edmonton:20260720T090000
DTEND;TZID=America/Edmonton:20260724T160000
DTSTAMP:20260421T132417
CREATED:20260328T055040Z
LAST-MODIFIED:20260328T055040Z
UID:556-1784538000-1784908800@maclabsouth.com
SUMMARY:SEATS Ensemble Theatre Camp
DESCRIPTION:Ensemble Theatre Camp is a fun and creative summer theatre camp in Edmonton for youth ages 12 to 16. Hosted by the South Edmonton Arts and Theatre Society (SEATS)\, this one-week camp gives participants the chance to explore acting\, improvisation\, script writing\, technical theatre\, and stage production in a welcoming and supportive environment. Campers will work together to create an original performance while building confidence\, creativity\, teamwork\, and lifelong friendships.
URL:https://maclabsouth.com/event/seats-ensemble-theatre-camp/
LOCATION:Maclab Theatre South\, 2019 Leger Road NW\, Edmonton\, AB\, T6R0R9\, Canada
END:VEVENT
END:VCALENDAR