BEGIN:VCALENDAR
VERSION:2.0
PRODID:-//South Edmonton Arts &amp; Theatre Society - ECPv6.15.20//NONSGML v1.0//EN
CALSCALE:GREGORIAN
METHOD:PUBLISH
X-WR-CALNAME:South Edmonton Arts &amp; Theatre Society
X-ORIGINAL-URL:https://maclabsouth.com
X-WR-CALDESC:Events for South Edmonton Arts &amp; Theatre Society
REFRESH-INTERVAL;VALUE=DURATION:PT1H
X-Robots-Tag:noindex
X-PUBLISHED-TTL:PT1H
BEGIN:VTIMEZONE
TZID:America/Edmonton
BEGIN:DAYLIGHT
TZOFFSETFROM:-0700
TZOFFSETTO:-0600
TZNAME:MDT
DTSTART:20250309T090000
END:DAYLIGHT
BEGIN:STANDARD
TZOFFSETFROM:-0600
TZOFFSETTO:-0700
TZNAME:MST
DTSTART:20251102T080000
END:STANDARD
BEGIN:DAYLIGHT
TZOFFSETFROM:-0700
TZOFFSETTO:-0600
TZNAME:MDT
DTSTART:20260308T090000
END:DAYLIGHT
BEGIN:STANDARD
TZOFFSETFROM:-0600
TZOFFSETTO:-0700
TZNAME:MST
DTSTART:20261101T080000
END:STANDARD
BEGIN:DAYLIGHT
TZOFFSETFROM:-0700
TZOFFSETTO:-0600
TZNAME:MDT
DTSTART:20270314T090000
END:DAYLIGHT
BEGIN:STANDARD
TZOFFSETFROM:-0600
TZOFFSETTO:-0700
TZNAME:MST
DTSTART:20271107T080000
END:STANDARD
END:VTIMEZONE
BEGIN:VEVENT
DTSTART;TZID=America/Edmonton:20260215T140000
DTEND;TZID=America/Edmonton:20260215T150000
DTSTAMP:20260421T124713
CREATED:20260128T043000Z
LAST-MODIFIED:20260128T043000Z
UID:411-1771164000-1771167600@maclabsouth.com
SUMMARY:Hearts In Harmony
DESCRIPTION:Hearts in Harmony is a collaborative arts event bringing together students from Lillian Osborne catchment schools to celebrate love\, friendship\, community\, and the arts through music\, dance\, and visual art.
URL:https://maclabsouth.com/event/hearts-in-harmony/
LOCATION:Maclab Theatre South\, 2019 Leger Road NW\, Edmonton\, AB\, T6R0R9\, Canada
END:VEVENT
END:VCALENDAR